BEGIN:VCALENDAR
VERSION:2.0
PRODID:-//meadowbrooktheatreguild.com - ECPv5.14.1//NONSGML v1.0//EN
CALSCALE:GREGORIAN
METHOD:PUBLISH
X-WR-CALNAME:meadowbrooktheatreguild.com
X-ORIGINAL-URL:https://meadowbrooktheatreguild.com
X-WR-CALDESC:Events for meadowbrooktheatreguild.com
REFRESH-INTERVAL;VALUE=DURATION:PT1H
X-Robots-Tag:noindex
X-PUBLISHED-TTL:PT1H
BEGIN:VTIMEZONE
TZID:America/Detroit
BEGIN:DAYLIGHT
TZOFFSETFROM:-0500
TZOFFSETTO:-0400
TZNAME:EDT
DTSTART:20250309T070000
END:DAYLIGHT
BEGIN:STANDARD
TZOFFSETFROM:-0400
TZOFFSETTO:-0500
TZNAME:EST
DTSTART:20251102T060000
END:STANDARD
BEGIN:DAYLIGHT
TZOFFSETFROM:-0500
TZOFFSETTO:-0400
TZNAME:EDT
DTSTART:20260308T070000
END:DAYLIGHT
BEGIN:STANDARD
TZOFFSETFROM:-0400
TZOFFSETTO:-0500
TZNAME:EST
DTSTART:20261101T060000
END:STANDARD
END:VTIMEZONE
BEGIN:VEVENT
DTSTART;TZID=America/Detroit:20250424T103000
DTEND;TZID=America/Detroit:20250424T140000
DTSTAMP:20260421T133703
CREATED:20250301T224526Z
LAST-MODIFIED:20250301T224526Z
UID:1664-1745490600-1745503200@meadowbrooktheatreguild.com
SUMMARY:Luncheon on the Aisle LOA 2025
DESCRIPTION:April 24 — JOIN THE FUN OF RAFFLES\, LUNCH\, SELECT PERFORMANCES\, AND SUPPORT THE THEATRE AND PERFORMING ARTS! The Rat Pack sets the tone for this year’s Luncheon on the Aisle! It will be great to sway to the music of Sammy Davis Jr.\, Dean Martin\, and Frank Sinatra! \nRESERVED SEAT TICKETS — To purchase tickets\, call Meadow Brook Theatre Box Office at 248-377-3300. DEADLINE: APRIL 17\, 2025. **Dietary choice MUST be ordered at the time of ticket purchase. Let the Box Office staff know for each ticket if want regular\, gluten free\, or vegetarian. \nThe tickets are $50.00 each ($45 for group of eight). \nAlong with your box lunch and enjoying select performances from the cast of the Rat Pack\, come at 10:30 to browse the Bake Shoppe delights\, choose which Raffle Baskets to enter your chance in (really great prizes!!)\, and play the 54-Card and Vegas Patch chances. \n\nBring your friends\, your family!! They will love it! Come enjoy this wonderfully special day of fun and up close show preview treat! \n\n10:30 AM – Doors open.\n11:30 AM – Lunch begins.\n12:00 PM – Enjoy select scenes from “The Rat Pack Lounge” and conversations with actors and director. Prize drawings.
URL:https://meadowbrooktheatreguild.com/event/luncheon-on-the-aisle-loa-2025/
LOCATION:Meadow Brook Theatre\, 207 Wilson Hall\, Rochester Hills\, United States
END:VEVENT
BEGIN:VEVENT
DTSTART;TZID=America/Detroit:20260309T093000
DTEND;TZID=America/Detroit:20260309T113000
DTSTAMP:20260421T133703
CREATED:20260302T003342Z
LAST-MODIFIED:20260302T020553Z
UID:1776-1773048600-1773055800@meadowbrooktheatreguild.com
SUMMARY:Membership Meeting
DESCRIPTION:9:30 a.m. Social; 10:00 a.m. – 11:30 a.m. Meeting
URL:https://meadowbrooktheatreguild.com/event/membership-meeting/
LOCATION:Meadowbrook Christian Church\, 2741 Walton Blvd\, Rochester Hills\, MI\, United States
END:VEVENT
BEGIN:VEVENT
DTSTART;TZID=America/Detroit:20260312T080000
DTEND;TZID=America/Detroit:20260312T170000
DTSTAMP:20260421T133703
CREATED:20260225T180216Z
LAST-MODIFIED:20260225T180811Z
UID:1725-1773302400-1773334800@meadowbrooktheatreguild.com
SUMMARY:DaVinci The Exhibtion
DESCRIPTION:Join us for lunch and a detailed exploration of the life and work of the ultimate Renaissance man\, Leonardo Davinci at The Henry Ford
URL:https://meadowbrooktheatreguild.com/event/davinci-the-exhibtion/
LOCATION:MI
END:VEVENT
BEGIN:VEVENT
DTSTART;TZID=America/Detroit:20260319T110000
DTEND;TZID=America/Detroit:20260319T133000
DTSTAMP:20260421T133703
CREATED:20260302T015406Z
LAST-MODIFIED:20260302T015406Z
UID:1804-1773918000-1773927000@meadowbrooktheatreguild.com
SUMMARY:Explore RHPL
DESCRIPTION:Enjoy a private tour of Rochester Hills exceptional Public Library. Let your curiosity spark and your creativity grow as the Director walks us through the library’s many amazing resources. Afterward\, we’ll gather for lunch and good conversation.
URL:https://meadowbrooktheatreguild.com/event/explore-rhpl/
LOCATION:MI
END:VEVENT
BEGIN:VEVENT
DTSTART;TZID=America/Detroit:20260323T190000
DTEND;TZID=America/Detroit:20260323T203000
DTSTAMP:20260421T133703
CREATED:20260222T035814Z
LAST-MODIFIED:20260222T042940Z
UID:1719-1774292400-1774297800@meadowbrooktheatreguild.com
SUMMARY:NewFound Friends 1 Night Only
DESCRIPTION:
URL:https://meadowbrooktheatreguild.com/event/newfound-friends-1-night-only/
LOCATION:Meadow Brook Theatre\, 207 Wilson Hall\, Rochester Hills\, United States
END:VEVENT
BEGIN:VEVENT
DTSTART;TZID=America/Detroit:20260413T093000
DTEND;TZID=America/Detroit:20260413T113000
DTSTAMP:20260421T133703
CREATED:20260302T005801Z
LAST-MODIFIED:20260302T020509Z
UID:1780-1776072600-1776079800@meadowbrooktheatreguild.com
SUMMARY:Membership Meeting
DESCRIPTION:9:30 a.m. Social; 10:00 a.m. – 11:30 a.m. Meeting
URL:https://meadowbrooktheatreguild.com/event/membership-meeting-2/
LOCATION:Meadowbrook Christian Church\, 2741 Walton Blvd\, Rochester Hills\, MI\, United States
END:VEVENT
BEGIN:VEVENT
DTSTART;TZID=America/Detroit:20260423T103000
DTEND;TZID=America/Detroit:20260423T140000
DTSTAMP:20260421T133703
CREATED:20260222T025942Z
LAST-MODIFIED:20260222T031232Z
UID:1706-1776940200-1776952800@meadowbrooktheatreguild.com
SUMMARY:Luncheon on the Aisle LOA
DESCRIPTION:April 23 — JOIN THE FUN OF RAFFLES\, LUNCH\, SELECT PERFORMANCES\, AND SUPPORT THE THEATRE AND PERFORMING ARTS! The Million Dollar Quartet  sets the tone for this year’s Luncheon on the Aisle! It will be fun to get amped up to the music of Johnny Cash\, Jerry Lee Lewis\, Carl Perkins and Elvis Presley! \nRESERVED SEAT TICKETS — To purchase tickets\, call Meadow Brook Theatre Box Office at 248-377-3300. DEADLINE: APRIL 16\, 2026. **Dietary choice MUST be ordered at the time of ticket purchase. Let the Box Office staff know for each ticket if want regular\, gluten free\, or vegetarian. \nThe tickets are $50.00 each ($45 for group of eight). \nAlong with your box lunch and enjoying select performances from the cast of The Million Dollar Quartet\, come at 10:30 to browse the Bake Shoppe delights\, sip your beverage and choose which Raffle Baskets to enter your chance in (really great prizes!!)  \n\nInvite your friends and family to this unforgettable day filled with entertainment\, exciting prize giveaways\, delicious food\, and a sneak peek of the show! It’s a day packed with fun that you won’t want to miss!/strong> \n\n10:30 AM – Doors open.\n11:30 AM – Lunch begins.\n12:00 PM – Enjoy select scenes from “Million Dollar Quartet” and conversations with actors and director. Prize drawings.
URL:https://meadowbrooktheatreguild.com/event/luncheon-on-the-aisle-loa/
LOCATION:Meadow Brook Theatre\, 207 Wilson Hall\, Rochester Hills\, United States
END:VEVENT
BEGIN:VEVENT
DTSTART;TZID=America/Detroit:20260511T093000
DTEND;TZID=America/Detroit:20260511T113000
DTSTAMP:20260421T133703
CREATED:20260302T011109Z
LAST-MODIFIED:20260421T172341Z
UID:1796-1778491800-1778499000@meadowbrooktheatreguild.com
SUMMARY:Membership Meeting
DESCRIPTION:9:30 a.m. Social; 10:00 a.m. – 11:30 a.m. Meeting
URL:https://meadowbrooktheatreguild.com/event/membership-meeting-9/
LOCATION:Meadowbrook Christian Church\, 2741 Walton Blvd\, Rochester Hills\, MI\, United States
END:VEVENT
BEGIN:VEVENT
DTSTART;TZID=America/Detroit:20260520T113000
DTEND;TZID=America/Detroit:20260520T160000
DTSTAMP:20260421T133703
CREATED:20260421T164104Z
LAST-MODIFIED:20260421T164104Z
UID:1926-1779276600-1779292800@meadowbrooktheatreguild.com
SUMMARY:Mahjong
DESCRIPTION:Lunch 11:30 AM\nMahjong  begins 12:30 PM ~ 4:00 PM\nSign Up Sheet at the Guild Monthly Meeting\nContact Judy Bass or leave message at 248-370-4244 with questions
URL:https://meadowbrooktheatreguild.com/event/mahjong/
LOCATION:Red Ox Tavern\, 3773 E Walton Blvd\, Auburn Hills\, MI\, 48326\, United States
END:VEVENT
BEGIN:VEVENT
DTSTART;TZID=America/Detroit:20260617T113000
DTEND;TZID=America/Detroit:20260617T160000
DTSTAMP:20260421T133703
CREATED:20260421T164302Z
LAST-MODIFIED:20260421T172033Z
UID:1930-1781695800-1781712000@meadowbrooktheatreguild.com
SUMMARY:Mahjong
DESCRIPTION:Lunch 11:30 AM\nMahjong  begins 12:30 PM ~ 4:00 PM\nSign Up Sheet at The Guild Monthly Meeting\nContact Judy Bass or leave message at 248-370-4244 with questions
URL:https://meadowbrooktheatreguild.com/event/mahjong-2/
LOCATION:Red Ox Tavern\, 3773 E Walton Blvd\, Auburn Hills\, MI\, 48326\, United States
END:VEVENT
BEGIN:VEVENT
DTSTART;TZID=America/Detroit:20260617T120000
DTEND;TZID=America/Detroit:20260617T140000
DTSTAMP:20260421T133703
CREATED:20260421T160754Z
LAST-MODIFIED:20260421T160754Z
UID:1920-1781697600-1781704800@meadowbrooktheatreguild.com
SUMMARY:New Member Tea
DESCRIPTION:New member tea June 17\, 2026 for Mentors and 2025/2026 New Members\nFoxlee residence\nCall 248-370-4244 if additional information needed
URL:https://meadowbrooktheatreguild.com/event/new-member-tea/
LOCATION:MI
END:VEVENT
BEGIN:VEVENT
DTSTART;TZID=America/Detroit:20260715T113000
DTEND;TZID=America/Detroit:20260715T160000
DTSTAMP:20260421T133703
CREATED:20260421T164619Z
LAST-MODIFIED:20260421T164619Z
UID:1932-1784115000-1784131200@meadowbrooktheatreguild.com
SUMMARY:Mahjong
DESCRIPTION:Lunch 11:30 AM\nMahjong  begins 12:30 PM ~ 4:00 PM\nSign Up Sheet at the Guild Monthly Meeting\nContact Judy Bass or leave message at 248-370-4244 with questions
URL:https://meadowbrooktheatreguild.com/event/mahjong-3/
LOCATION:Red Ox Tavern\, 3773 E Walton Blvd\, Auburn Hills\, MI\, 48326\, United States
END:VEVENT
BEGIN:VEVENT
DTSTART;TZID=America/Detroit:20260717T080000
DTEND;TZID=America/Detroit:20260717T170000
DTSTAMP:20260421T133703
CREATED:20260421T161509Z
LAST-MODIFIED:20260421T161509Z
UID:1922-1784275200-1784307600@meadowbrooktheatreguild.com
SUMMARY:Concert & Cuisine
DESCRIPTION:Credence Revived a CCR Tribute band\nTickets available at Meadow Brook Theatre Box Office
URL:https://meadowbrooktheatreguild.com/event/concert-cuisine/
LOCATION:MI
END:VEVENT
BEGIN:VEVENT
DTSTART;TZID=America/Detroit:20260724T183000
DTEND;TZID=America/Detroit:20260724T210000
DTSTAMP:20260421T133703
CREATED:20260421T162210Z
LAST-MODIFIED:20260421T162210Z
UID:1924-1784917800-1784926800@meadowbrooktheatreguild.com
SUMMARY:Andes Awards
DESCRIPTION:16th Annual Andes Awards\nMeadow Brook Theatre’s version of “Oscar night”\nMBT provides Season Ticket holders with voting ballot\nThe Guild assists with appetizers and desserts
URL:https://meadowbrooktheatreguild.com/event/andes-awards/
LOCATION:MI
END:VEVENT
BEGIN:VEVENT
DTSTART;TZID=America/Detroit:20260805T160000
DTEND;TZID=America/Detroit:20260805T180000
DTSTAMP:20260421T133703
CREATED:20260302T013033Z
LAST-MODIFIED:20260302T013146Z
UID:1800-1785945600-1785952800@meadowbrooktheatreguild.com
SUMMARY:Detroit River Boat Cruise Fundraiser
DESCRIPTION:Join us for a historical tour! Connect with the Guildies and their families\, make new friends\, and enjoy plenty of laughs and learning—all while supporting Meadow Brook Theatre:-)
URL:https://meadowbrooktheatreguild.com/event/detroit-river-boat-cruise-fundraiser/
LOCATION:MI
END:VEVENT
BEGIN:VEVENT
DTSTART;TZID=America/Detroit:20260819T113000
DTEND;TZID=America/Detroit:20260819T160000
DTSTAMP:20260421T133703
CREATED:20260421T170028Z
LAST-MODIFIED:20260421T170028Z
UID:1934-1787139000-1787155200@meadowbrooktheatreguild.com
SUMMARY:Mahjong
DESCRIPTION:Lunch 11:30 AM\nMahjong  begins 12:30 PM ~ 4:00 PM\nSign Up Sheet at The Guild Monthly Meeting\nContact Judy Bass or leave message at 248-370-4244 with questions
URL:https://meadowbrooktheatreguild.com/event/mahjong-8/
LOCATION:Red Ox Tavern\, 3773 E Walton Blvd\, Auburn Hills\, MI\, 48326\, United States
END:VEVENT
BEGIN:VEVENT
DTSTART;TZID=America/Detroit:20260914T093000
DTEND;TZID=America/Detroit:20260914T113000
DTSTAMP:20260421T133703
CREATED:20260302T010932Z
LAST-MODIFIED:20260302T020307Z
UID:1792-1789378200-1789385400@meadowbrooktheatreguild.com
SUMMARY:Membership Meeting
DESCRIPTION:9:30 a.m. Social; 10:00 a.m. – 11:30 a.m. Meeting
URL:https://meadowbrooktheatreguild.com/event/membership-meeting-7/
LOCATION:Meadowbrook Christian Church\, 2741 Walton Blvd\, Rochester Hills\, MI\, United States
END:VEVENT
BEGIN:VEVENT
DTSTART;TZID=America/Detroit:20260916T113000
DTEND;TZID=America/Detroit:20260916T160000
DTSTAMP:20260421T133703
CREATED:20260421T165145Z
LAST-MODIFIED:20260421T170217Z
UID:1937-1789558200-1789574400@meadowbrooktheatreguild.com
SUMMARY:Mahjong
DESCRIPTION:Lunch 11:30 AM\nMahjong  begins 12:30 PM ~ 4:00 PM\nSign Up Sheet at The Guild Monthly Meeting\nContact Judy Bass or leave message at 248-370-4244 with questions
URL:https://meadowbrooktheatreguild.com/event/mahjong-4/
LOCATION:Red Ox Tavern\, 3773 E Walton Blvd\, Auburn Hills\, MI\, 48326\, United States
END:VEVENT
BEGIN:VEVENT
DTSTART;TZID=America/Detroit:20261012T093000
DTEND;TZID=America/Detroit:20261012T113000
DTSTAMP:20260421T133703
CREATED:20260302T011019Z
LAST-MODIFIED:20260302T020233Z
UID:1794-1791797400-1791804600@meadowbrooktheatreguild.com
SUMMARY:Membership Meeting
DESCRIPTION:9:30 a.m. Social; 10:00 a.m. – 11:30 a.m. Meeting
URL:https://meadowbrooktheatreguild.com/event/membership-meeting-8/
LOCATION:Meadowbrook Christian Church\, 2741 Walton Blvd\, Rochester Hills\, MI\, United States
END:VEVENT
BEGIN:VEVENT
DTSTART;TZID=America/Detroit:20261018T110000
DTEND;TZID=America/Detroit:20261018T150000
DTSTAMP:20260421T133703
CREATED:20260227T133138Z
LAST-MODIFIED:20260227T133933Z
UID:1741-1792321200-1792335600@meadowbrooktheatreguild.com
SUMMARY:Bewitched & Bedazzled
DESCRIPTION:Save The Date: Sunday\, October 18th 2026!!
URL:https://meadowbrooktheatreguild.com/event/luncheon-on-the-aidle/
LOCATION:Petruzzellos\, 6950 Rochester Road\, Troy\, MI\, 48085\, United States
END:VEVENT
BEGIN:VEVENT
DTSTART;TZID=America/Detroit:20261021T113000
DTEND;TZID=America/Detroit:20261021T160000
DTSTAMP:20260421T133703
CREATED:20260421T165300Z
LAST-MODIFIED:20260421T165300Z
UID:1939-1792582200-1792598400@meadowbrooktheatreguild.com
SUMMARY:Mahjong
DESCRIPTION:Lunch 11:30 AM\nMahjong  begins 12:30 PM ~ 4:00 PM\nSign Up Sheet at the Guild Monthly Meeting\nContact Judy Bass or leave message at 248-370-4244 with questions
URL:https://meadowbrooktheatreguild.com/event/mahjong-5/
LOCATION:Red Ox Tavern\, 3773 E Walton Blvd\, Auburn Hills\, MI\, 48326\, United States
END:VEVENT
BEGIN:VEVENT
DTSTART;TZID=America/Detroit:20261021T113000
DTEND;TZID=America/Detroit:20261021T160000
DTSTAMP:20260421T133703
CREATED:20260421T165400Z
LAST-MODIFIED:20260421T165400Z
UID:1941-1792582200-1792598400@meadowbrooktheatreguild.com
SUMMARY:Mahjong 
DESCRIPTION:Lunch 11:30 AM\nMahjong  begins 12:30 PM ~ 4:00 PM\nSign Up Sheet at the Guild Monthly Meeting\nContact Judy Bass or leave message at 248-370-4244 with questions
URL:https://meadowbrooktheatreguild.com/event/mahjong-6/
LOCATION:Red Ox Tavern\, 3773 E Walton Blvd\, Auburn Hills\, MI\, 48326\, United States
END:VEVENT
BEGIN:VEVENT
DTSTART;TZID=America/Detroit:20261118T113000
DTEND;TZID=America/Detroit:20261118T160000
DTSTAMP:20260421T133703
CREATED:20260421T165512Z
LAST-MODIFIED:20260421T165512Z
UID:1943-1795001400-1795017600@meadowbrooktheatreguild.com
SUMMARY:Mahjong 
DESCRIPTION:Lunch 11:30 AM\nMahjong  begins 12:30 PM ~ 4:00 PM\nSign Up Sheet at the Guild Monthly Meeting\nContact Judy Bass or leave message at 248-370-4244 with questions
URL:https://meadowbrooktheatreguild.com/event/mahjong-7/
LOCATION:Red Ox Tavern\, 3773 E Walton Blvd\, Auburn Hills\, MI\, 48326\, United States
END:VEVENT
END:VCALENDAR